BEGIN:VCALENDAR
VERSION:2.0
PRODID:-//Recycle Florida Today, Inc. - ECPv6.15.20//NONSGML v1.0//EN
CALSCALE:GREGORIAN
METHOD:PUBLISH
X-WR-CALNAME:Recycle Florida Today, Inc.
X-ORIGINAL-URL:https://recyclefloridatoday.org
X-WR-CALDESC:Events for Recycle Florida Today, Inc.
REFRESH-INTERVAL;VALUE=DURATION:PT1H
X-Robots-Tag:noindex
X-PUBLISHED-TTL:PT1H
BEGIN:VTIMEZONE
TZID:America/New_York
BEGIN:DAYLIGHT
TZOFFSETFROM:-0500
TZOFFSETTO:-0400
TZNAME:EDT
DTSTART:20230312T070000
END:DAYLIGHT
BEGIN:STANDARD
TZOFFSETFROM:-0400
TZOFFSETTO:-0500
TZNAME:EST
DTSTART:20231105T060000
END:STANDARD
BEGIN:DAYLIGHT
TZOFFSETFROM:-0500
TZOFFSETTO:-0400
TZNAME:EDT
DTSTART:20240310T070000
END:DAYLIGHT
BEGIN:STANDARD
TZOFFSETFROM:-0400
TZOFFSETTO:-0500
TZNAME:EST
DTSTART:20241103T060000
END:STANDARD
BEGIN:DAYLIGHT
TZOFFSETFROM:-0500
TZOFFSETTO:-0400
TZNAME:EDT
DTSTART:20250309T070000
END:DAYLIGHT
BEGIN:STANDARD
TZOFFSETFROM:-0400
TZOFFSETTO:-0500
TZNAME:EST
DTSTART:20251102T060000
END:STANDARD
END:VTIMEZONE
BEGIN:VEVENT
DTSTART;TZID=America/New_York:20240726T100000
DTEND;TZID=America/New_York:20240726T110000
DTSTAMP:20260422T184028
CREATED:20240718T145227Z
LAST-MODIFIED:20240718T145227Z
UID:7899-1721988000-1721991600@recyclefloridatoday.org
SUMMARY:2024 RFTES Awards Webinar
DESCRIPTION:Tweet\n				 \n  \n  \nJoin us on July 26th to congratulate our 2024 Recycle Florida Today Environmental Sustainability finalists and hear information about their outstanding Florida programs. These programs displayed an increased awareness of the importance of sustainability and ability to motivate others to maximize their recycling\, composting\, grass-roots efforts\, waste reduction\, sustainability efforts and improving their recycling rates through education\, outreach and by example. \n  \nAWARDS WEBINAR REGISTRATION  \nRegistration is free. \n  \nWhen:  Friday\, July 26th \nTime:  10:00 am (EST) \nPlatform: Zoom \nRegistration:  FREE \n 
URL:https://recyclefloridatoday.org/rft-events/2024-rftes-awards-webinar/
ATTACH;FMTTYPE=image/jpeg:https://recyclefloridatoday.org/wp-content/uploads/2024/07/White-Black-Gold-Elegant-Event-Award-Certificate4.jpg
END:VEVENT
END:VCALENDAR