BEGIN:VCALENDAR
VERSION:2.0
PRODID:-//Recycle Florida Today, Inc. - ECPv6.15.20//NONSGML v1.0//EN
CALSCALE:GREGORIAN
METHOD:PUBLISH
X-ORIGINAL-URL:https://recyclefloridatoday.org
X-WR-CALDESC:Events for Recycle Florida Today, Inc.
REFRESH-INTERVAL;VALUE=DURATION:PT1H
X-Robots-Tag:noindex
X-PUBLISHED-TTL:PT1H
BEGIN:VTIMEZONE
TZID:America/New_York
BEGIN:DAYLIGHT
TZOFFSETFROM:-0500
TZOFFSETTO:-0400
TZNAME:EDT
DTSTART:20200308T070000
END:DAYLIGHT
BEGIN:STANDARD
TZOFFSETFROM:-0400
TZOFFSETTO:-0500
TZNAME:EST
DTSTART:20201101T060000
END:STANDARD
BEGIN:DAYLIGHT
TZOFFSETFROM:-0500
TZOFFSETTO:-0400
TZNAME:EDT
DTSTART:20210314T070000
END:DAYLIGHT
BEGIN:STANDARD
TZOFFSETFROM:-0400
TZOFFSETTO:-0500
TZNAME:EST
DTSTART:20211107T060000
END:STANDARD
BEGIN:DAYLIGHT
TZOFFSETFROM:-0500
TZOFFSETTO:-0400
TZNAME:EDT
DTSTART:20220313T070000
END:DAYLIGHT
BEGIN:STANDARD
TZOFFSETFROM:-0400
TZOFFSETTO:-0500
TZNAME:EST
DTSTART:20221106T060000
END:STANDARD
END:VTIMEZONE
BEGIN:VEVENT
DTSTART;TZID=America/New_York:20210721T090000
DTEND;TZID=America/New_York:20210721T120000
DTSTAMP:20260423T192129
CREATED:20210628T145309Z
LAST-MODIFIED:20210628T145309Z
UID:6364-1626858000-1626868800@recyclefloridatoday.org
SUMMARY:Facts\, Fiction\, and the Future of Recycling Contracts
DESCRIPTION:Tweet\n				Workshop summary:\nPlease join Mitch Kessler\, President of Kessler Consulting\, Inc. for this interactive\, virtual workshop. Mitch will share today’s issues and obstacles within the recycling industry and provide practical options and tools that lead to sustainable\, winning partnerships. Utilizing real world examples\, Mitch will discuss the facts and myths that are currently taking place in our industry that impact all players and reveal how current legislation\, redefining transparency\, anticipating change\, knowing the local climate\, and open communication can result in a successful recycling program. \n  \nFocus will be on the importance of the whole system\, public education-to-collection-to-processing-to-marketing and commodity markets. Particular attention will be given to recent legislation and the impacts this will have on collection programs across Florida. Attendees will learn how strategic procurement processes and clearly defined contractual terms can provide solutions to local program objectives. A portion of the workshop will be dedicated to interactive dialog\, allowing attendees the opportunity to ask questions and dive into discussions on the multiple options that can meet a community’s goal. With a deeper knowledge on the future of the industry and contractual terms\, attendees will have an opportunity for internal reflection and be equipped with a vision on how to obtain their program objectives\, deliver a service the public wants\, and ensure long-term sustainability in their recycling programs. \nAudience: Public Sector\nSpeaker:  Mitch Kessler\, President\, Kessler Consulting\, Inc.\nModerator:  Joe England\, City of Orlando \nRegistration:\nPublic sector members of Recycle Florida Today\, Inc. – FREE\nPublic sector non-members – $35 \nWhen:\nWednesday\, July 21\, 2021 from 9 AM to Noon\n*This webinar meeting will be hosted via Zoom. \n  \n  \nPublic sector registration. \n \nhttp://recyclefloridatoday.info/event-4388721
URL:https://recyclefloridatoday.org/rft-events/future-of-recycling-contracts/
CATEGORIES:workshop
ATTACH;FMTTYPE=image/jpeg:https://recyclefloridatoday.org/wp-content/uploads/2021/06/COVER-2-Facts-Fiction-and-the-Future-of-Recycling-Contracts.jpg
END:VEVENT
END:VCALENDAR